BEGIN:VCALENDAR
VERSION:2.0
PRODID:-//HDA (Isle of Man) - ECPv6.15.20//NONSGML v1.0//EN
CALSCALE:GREGORIAN
METHOD:PUBLISH
X-ORIGINAL-URL:https://hdaiom.org
X-WR-CALDESC:Events for HDA (Isle of Man)
REFRESH-INTERVAL;VALUE=DURATION:PT1H
X-Robots-Tag:noindex
X-PUBLISHED-TTL:PT1H
BEGIN:VTIMEZONE
TZID:Europe/London
BEGIN:DAYLIGHT
TZOFFSETFROM:+0000
TZOFFSETTO:+0100
TZNAME:BST
DTSTART:20190331T010000
END:DAYLIGHT
BEGIN:STANDARD
TZOFFSETFROM:+0100
TZOFFSETTO:+0000
TZNAME:GMT
DTSTART:20191027T010000
END:STANDARD
BEGIN:DAYLIGHT
TZOFFSETFROM:+0000
TZOFFSETTO:+0100
TZNAME:BST
DTSTART:20200329T010000
END:DAYLIGHT
BEGIN:STANDARD
TZOFFSETFROM:+0100
TZOFFSETTO:+0000
TZNAME:GMT
DTSTART:20201025T010000
END:STANDARD
BEGIN:DAYLIGHT
TZOFFSETFROM:+0000
TZOFFSETTO:+0100
TZNAME:BST
DTSTART:20210328T010000
END:DAYLIGHT
BEGIN:STANDARD
TZOFFSETFROM:+0100
TZOFFSETTO:+0000
TZNAME:GMT
DTSTART:20211031T010000
END:STANDARD
BEGIN:DAYLIGHT
TZOFFSETFROM:+0000
TZOFFSETTO:+0100
TZNAME:BST
DTSTART:20220327T010000
END:DAYLIGHT
BEGIN:STANDARD
TZOFFSETFROM:+0100
TZOFFSETTO:+0000
TZNAME:GMT
DTSTART:20221030T010000
END:STANDARD
BEGIN:DAYLIGHT
TZOFFSETFROM:+0000
TZOFFSETTO:+0100
TZNAME:BST
DTSTART:20230326T010000
END:DAYLIGHT
BEGIN:STANDARD
TZOFFSETFROM:+0100
TZOFFSETTO:+0000
TZNAME:GMT
DTSTART:20231029T010000
END:STANDARD
BEGIN:DAYLIGHT
TZOFFSETFROM:+0000
TZOFFSETTO:+0100
TZNAME:BST
DTSTART:20240331T010000
END:DAYLIGHT
BEGIN:STANDARD
TZOFFSETFROM:+0100
TZOFFSETTO:+0000
TZNAME:GMT
DTSTART:20241027T010000
END:STANDARD
END:VTIMEZONE
BEGIN:VEVENT
DTSTART;TZID=Europe/London:20231202T190000
DTEND;TZID=Europe/London:20231203T010000
DTSTAMP:20260420T105809
CREATED:20230810T173925Z
LAST-MODIFIED:20230810T173925Z
UID:848-1701543600-1701565200@hdaiom.org
SUMMARY:Palace Festive Party Night
DESCRIPTION:£50.00 per person \nTo include: \n3 Course Seasonal Carvery\, 1/2 Bottle of House Wine Per Person & DJ until 01:00hrs \n7pm Arrival \n7:30pm Dinner to Start \n(£20 deposit per person required when booking) \nFinal balance due by 03/11/23 \nCruise style seating. Over 18s only \nThere is a booking in the name Helen Martin\, if you wish to attend\, please phone 682776 to add to the booking\, you will be asked to pay £20 deposit. \nRooms\nSpecial event – room rates for the night are:- \n£63 B&B for 2 people Standard Room \n£55 B&B for single Standard Room \nAgain you can book this on the Palace events phone no.682776 stating the event booking.
URL:https://hdaiom.org/event/palace-festive-party-night/
LOCATION:Palace Hotel & Casino\, Central Promenade\, Douglas\, IM2 4NA
CATEGORIES:Christmas,Party night
END:VEVENT
BEGIN:VEVENT
DTSTART;TZID=Europe/London:20230902T110000
DTEND;TZID=Europe/London:20230903T100000
DTSTAMP:20260420T105809
CREATED:20230810T172922Z
LAST-MODIFIED:20230810T173012Z
UID:839-1693652400-1693735200@hdaiom.org
SUMMARY:Huntington’s Disease Family Fun Day & Camping
DESCRIPTION:This will be a fun day for all of the family to get involved in.  \n \nYou can most definitely expect a few games like rounders\, a nerf war\, boules\, posibly a water fight & many more\, along with a tattoo parlour for the children!\n \nChef Callum will be providing you all with some delicious cheeseburgers and hot dogs!\n \n\nPrices:\n\nCampervans/Motorhomes – £10 per person\, per night\nElectric hook-up – £7.50 per night\nTents – £10 per person\, per night\n£5 per child\, per night (under 5s free)\nAn adult and child day pass is free of charge (for those wanting to attend the family fun day\, but do not wish to camp)\n\n \nFood will be provided for by the Charity ??\n\n \n\nIf this is something you or your family would be interested in\, then contact us on 402625 or email huntingtonsiom@gmail.com as soon as possible\, with details of whether or not you will be camping or just visiting for the day.  If camping\, please provide full details of whether you will be in a campervan or tent\, as well as how many adults and children.\n \nThis invitation is for family\, friends\, carers\, positive/negative/at risk individuals. 
URL:https://hdaiom.org/event/huntingtons-disease-family-fun-day-camping/
LOCATION:Glenlough Campsite\, Main Road\, Ballahutchin Hill\, Union Mills\, Isle of Man\, IM4 4AT
CATEGORIES:Camping,Fun day
END:VEVENT
BEGIN:VEVENT
DTSTART;TZID=Europe/London:20230225T100000
DTEND;TZID=Europe/London:20230225T120000
DTSTAMP:20260420T105809
CREATED:20230131T170959Z
LAST-MODIFIED:20230201T125807Z
UID:827-1677319200-1677326400@hdaiom.org
SUMMARY:Mindfulness session with Mike Kewley
DESCRIPTION:Come along and join us for an insight into how mindfulness can help with the stress and everyday life of Huntington’s Disease and improve mental health and well-being.  \nOne hour with Mike Kewley and then a lovely cuppa and chat with others. \nLet us know if you’re coming so we can gauge the numbers. \nContact us by email huntingtonsIOM@gmail.com \nOr phone or text 402625 \nLook forward to seeing you.
URL:https://hdaiom.org/event/mindfulness-session-with-mike-kewley/
LOCATION:Laxey Working Mens Institute\, New Road\, Laxey\, Isle of Man
END:VEVENT
BEGIN:VEVENT
DTSTART;TZID=Europe/London:20201127T183000
DTEND;TZID=Europe/London:20201127T223000
DTSTAMP:20260420T105809
CREATED:20200921T174608Z
LAST-MODIFIED:20200921T174608Z
UID:745-1606501800-1606516200@hdaiom.org
SUMMARY:Christmas Meal - All Welcome
DESCRIPTION:Join us at the Talk of the Town on Friday\, 27th November for the Christmas get together. All patients\, carers etc welcome.  \n 
URL:https://hdaiom.org/event/christmas-meal-all-welcome/
LOCATION:nobles park\, Nobleâ€™s Park\, Douglas\, IM24BD\, United Kingdom
END:VEVENT
BEGIN:VEVENT
DTSTART;TZID=Europe/London:20201027T110000
DTEND;TZID=Europe/London:20201027T150000
DTSTAMP:20260420T105809
CREATED:20200921T174039Z
LAST-MODIFIED:20200921T174039Z
UID:737-1603796400-1603810800@hdaiom.org
SUMMARY:Hop-Tu-Naa Treasure Hunt
DESCRIPTION:
URL:https://hdaiom.org/event/hop-tu-naa-treasure-hunt/
LOCATION:nobles park\, Nobleâ€™s Park\, Douglas\, IM24BD\, United Kingdom
END:VEVENT
BEGIN:VEVENT
DTSTART;TZID=Europe/London:20201025T180000
DTEND;TZID=Europe/London:20201025T220000
DTSTAMP:20260420T105809
CREATED:20200921T174340Z
LAST-MODIFIED:20200921T174340Z
UID:742-1603648800-1603663200@hdaiom.org
SUMMARY:Charity Bingo Night
DESCRIPTION:Join us for our annual charity bingo night at the Palace Hotel. \nTicket details to follow.
URL:https://hdaiom.org/event/charity-bingo-night/
LOCATION:Isle of Man
END:VEVENT
BEGIN:VEVENT
DTSTART;TZID=Europe/London:20200908T080000
DTEND;TZID=Europe/London:20200908T170000
DTSTAMP:20260420T105809
CREATED:20200908T103726Z
LAST-MODIFIED:20200908T103726Z
UID:734-1599552000-1599584400@hdaiom.org
SUMMARY:Support Group Meeting
DESCRIPTION:Monday\, 14th September\, 2020 at the Manx Legion Club starting at 7.30pm. \nThe support group meeting is open to positive diagnosis patients\, families\, caters\, support network and health professionals. Everything discussed in the meeting will remain confidential. \nNo need to book\, just show up on the day. For more information or a chat beforehand\, contact Helen on 402625 or huntingtonsIOM@gmail.com
URL:https://hdaiom.org/event/support-group-meeting-2/
LOCATION:Isle of Man
END:VEVENT
BEGIN:VEVENT
DTSTART;TZID=Europe/London:20200817T193000
DTEND;TZID=Europe/London:20200817T210000
DTSTAMP:20260420T105809
CREATED:20200812T092039Z
LAST-MODIFIED:20200812T092039Z
UID:725-1597692600-1597698000@hdaiom.org
SUMMARY:Support Group Meeting
DESCRIPTION:Monday\, 17th August\, 2020 at the Manx Legion Club starting at 7.30pm.  \nThe support group meeting is open to positive diagnosis patients\, families\, carers\, support network\, health professionals. Anyone affected with HD be it through family or a friend. Everything discussed in meeting confidential.  \nNo need to book in advance\, just show up on the day.
URL:https://hdaiom.org/event/support-group-meeting/
LOCATION:manx legion club\, Market hill\, Douglas\, IM1 2BQ
END:VEVENT
END:VCALENDAR